BEGIN:VCALENDAR
VERSION:2.0
PRODID:-//SEDIA - ECPv6.8.2.1//NONSGML v1.0//EN
CALSCALE:GREGORIAN
METHOD:PUBLISH
X-WR-CALNAME:SEDIA
X-ORIGINAL-URL:https://sedia.com.my
X-WR-CALDESC:Events for SEDIA
REFRESH-INTERVAL;VALUE=DURATION:PT1H
X-Robots-Tag:noindex
X-PUBLISHED-TTL:PT1H
BEGIN:VTIMEZONE
TZID:Asia/Shanghai
BEGIN:STANDARD
TZOFFSETFROM:+0800
TZOFFSETTO:+0800
TZNAME:CST
DTSTART:20230101T000000
END:STANDARD
END:VTIMEZONE
BEGIN:VEVENT
DTSTART;TZID=Asia/Shanghai:20230626T080000
DTEND;TZID=Asia/Shanghai:20230626T170000
DTSTAMP:20260422T053515
CREATED:20230728T033202Z
LAST-MODIFIED:20230731T034403Z
UID:2524-1687766400-1687798800@sedia.com.my
SUMMARY:Sabah Drone Open Day
DESCRIPTION:Sabah Drone Open Day is organised by SEDIA with support by the Ministry of Science\, Technology and Innovation\, Malaysian Research Accelerator for Technology and Innovation (MRANTI)\, as well as the Ministry of Higher Education’s Department of Polytechnic and Community College Education.
URL:https://sedia.com.my/event/sabah-drone-open-day/
LOCATION:Sabah International Convention Centre (SICC)\, Jalan Tanjung Lipat\, Jalan Tun Fuad Stephens\, 88400 Kota Kinabalu\, Sabah\, Kota Kinabalu\, Sabah\, Malaysia
ORGANIZER;CN="Sabah Economic Development and Investment Authority":MAILTO:info@sedia.com.my
END:VEVENT
END:VCALENDAR